BEGIN:VCALENDAR
VERSION:2.0
PRODID:-//Sutcombe Parish Council//Meeting Calendar//EN
CALSCALE:GREGORIAN
METHOD:PUBLISH
BEGIN:VEVENT
UID:70520-20260112@sutcombeparishcouncil.gov.uk
DTSTAMP:20260419T120115Z
DTSTART;VALUE=DATE:20260112
DTEND;VALUE=DATE:20260113
SUMMARY:Parish Council Meeting &#8211\\; 12 January 2026
DESCRIPTION:Full Council Meeting\nView details: https://sutcombeparishcouncil.gov.uk/meetings/parish-council-meeting-12-january-2026/
URL:https://sutcombeparishcouncil.gov.uk/meetings/parish-council-meeting-12-january-2026/
END:VEVENT
END:VCALENDAR
