BEGIN:VCALENDAR
VERSION:2.0
PRODID:-//Sutcombe Parish Council//Meeting Calendar//EN
CALSCALE:GREGORIAN
METHOD:PUBLISH
BEGIN:VEVENT
UID:70526-20250224@sutcombeparishcouncil.gov.uk
DTSTAMP:20260419T151331Z
DTSTART;VALUE=DATE:20250224
DTEND;VALUE=DATE:20250225
SUMMARY:Parish Council Meeting &#8211\\; 24 February 2025
DESCRIPTION:Full Council Meeting\nView details: https://sutcombeparishcouncil.gov.uk/meetings/parish-council-meeting-24-february-2025/
URL:https://sutcombeparishcouncil.gov.uk/meetings/parish-council-meeting-24-february-2025/
END:VEVENT
END:VCALENDAR
