BEGIN:VCALENDAR
VERSION:2.0
PRODID:-//Sutcombe Parish Council//Meeting Calendar//EN
CALSCALE:GREGORIAN
METHOD:PUBLISH
BEGIN:VEVENT
UID:70530-20250310@sutcombeparishcouncil.gov.uk
DTSTAMP:20260419T133642Z
DTSTART;VALUE=DATE:20250310
DTEND;VALUE=DATE:20250311
SUMMARY:Extraordinary Parish Council Meeting &#8211\\; 10 March 2025
DESCRIPTION:Extraordinary Council Meetings Meeting\nView details: https://sutcombeparishcouncil.gov.uk/meetings/extraordinary-parish-council-meeting-10-march-2025/
URL:https://sutcombeparishcouncil.gov.uk/meetings/extraordinary-parish-council-meeting-10-march-2025/
END:VEVENT
END:VCALENDAR
