BEGIN:VCALENDAR
VERSION:2.0
PRODID:-//Sutcombe Parish Council//Meeting Calendar//EN
CALSCALE:GREGORIAN
METHOD:PUBLISH
BEGIN:VEVENT
UID:70533-20250414@sutcombeparishcouncil.gov.uk
DTSTAMP:20260419T133556Z
DTSTART;VALUE=DATE:20250414
DTEND;VALUE=DATE:20250415
SUMMARY:Annual Parish Council Meeting &#8211\\; 14 April 2025
DESCRIPTION:Annual Parish Meeting\nView details: https://sutcombeparishcouncil.gov.uk/meetings/annual-parish-council-meeting-14-april-2025/
URL:https://sutcombeparishcouncil.gov.uk/meetings/annual-parish-council-meeting-14-april-2025/
END:VEVENT
END:VCALENDAR
