BEGIN:VCALENDAR
VERSION:2.0
PRODID:-//Sutcombe Parish Council//Meeting Calendar//EN
CALSCALE:GREGORIAN
METHOD:PUBLISH
BEGIN:VEVENT
UID:70543-20250707@sutcombeparishcouncil.gov.uk
DTSTAMP:20260419T133642Z
DTSTART;VALUE=DATE:20250707
DTEND;VALUE=DATE:20250708
SUMMARY:Parish Council Meeting &#8211\\; 7 July 2025
DESCRIPTION:Full Council Meeting\nView details: https://sutcombeparishcouncil.gov.uk/meetings/parish-council-meeting-7-july-2025/
URL:https://sutcombeparishcouncil.gov.uk/meetings/parish-council-meeting-7-july-2025/
END:VEVENT
END:VCALENDAR
