BEGIN:VCALENDAR
VERSION:2.0
PRODID:-//Sutcombe Parish Council//Meeting Calendar//EN
CALSCALE:GREGORIAN
METHOD:PUBLISH
BEGIN:VEVENT
UID:70548-20251103@sutcombeparishcouncil.gov.uk
DTSTAMP:20260419T131744Z
DTSTART;VALUE=DATE:20251103
DTEND;VALUE=DATE:20251104
SUMMARY:Parish Council Meeting &#8211\\; 3 November 2025
DESCRIPTION:Full Council Meeting\nView details: https://sutcombeparishcouncil.gov.uk/meetings/parish-council-meeting-3-november-2025/
URL:https://sutcombeparishcouncil.gov.uk/meetings/parish-council-meeting-3-november-2025/
END:VEVENT
END:VCALENDAR
