BEGIN:VCALENDAR
VERSION:2.0
PRODID:-//Sutcombe Parish Council//Meeting Calendar//EN
CALSCALE:GREGORIAN
METHOD:PUBLISH
BEGIN:VEVENT
UID:70632-20190101@sutcombeparishcouncil.gov.uk
DTSTAMP:20260419T133557Z
DTSTART;VALUE=DATE:20190101
DTEND;VALUE=DATE:20190102
SUMMARY:Parish Council Meeting &#8211\\; 2019
DESCRIPTION:Full Council Meeting\nView details: https://sutcombeparishcouncil.gov.uk/meetings/parish-council-meeting-2019/
URL:https://sutcombeparishcouncil.gov.uk/meetings/parish-council-meeting-2019/
END:VEVENT
END:VCALENDAR
