BEGIN:VCALENDAR
VERSION:2.0
PRODID:-//Sutcombe Parish Council//Meeting Calendar//EN
CALSCALE:GREGORIAN
METHOD:PUBLISH
BEGIN:VEVENT
UID:70642-20180101@sutcombeparishcouncil.gov.uk
DTSTAMP:20260419T133652Z
DTSTART;VALUE=DATE:20180101
DTEND;VALUE=DATE:20180102
SUMMARY:Parish Council Meeting &#8211\\; 2018
DESCRIPTION:Full Council Meeting\nView details: https://sutcombeparishcouncil.gov.uk/meetings/parish-council-meeting-2018/
URL:https://sutcombeparishcouncil.gov.uk/meetings/parish-council-meeting-2018/
END:VEVENT
END:VCALENDAR
